BEGIN:VCALENDAR
VERSION:2.0
PRODID:-//Squarespace Inc/Squarespace 6//v6//EN
BEGIN:VEVENT
UID:594ecd4abe6594fef2649903@squarespace.com
DTSTAMP:20170815T233952Z
DTSTART:20170822T053000Z
DTEND:20170822T073000Z
SUMMARY:ARTIS GALLERY - Light
GEO:-36.856367;174.78134
LOCATION:ARTIS GALLERY\, 280 Parnell Road\, Auckland\, Auckland\, 1052\, Ne
 w Zealand
END:VEVENT
END:VCALENDAR
