BEGIN:VCALENDAR
VERSION:2.0
PRODID:-//Squarespace Inc/Squarespace 6//v6//EN
BEGIN:VEVENT
UID:5d49bda918c0a20001d870f8@squarespace.com
DTSTAMP:20190806T180127Z
DTSTART:20190902T180000Z
DTEND:20190922T190000Z
SUMMARY:ARTIS GALLERY - SEALIGHT
GEO:-36.856367;174.78134
LOCATION:ARTIS GALLERY\, 280a Parnell Road\, Auckland\, Auckland\, 1052\, N
 ew Zealand
END:VEVENT
END:VCALENDAR
